BEGIN:VCALENDAR
VERSION:2.0
PRODID:-//DAAA - ECPv6.15.20//NONSGML v1.0//EN
CALSCALE:GREGORIAN
METHOD:PUBLISH
X-WR-CALNAME:DAAA
X-ORIGINAL-URL:https://www.dunbartonshireaaa.co.uk
X-WR-CALDESC:Events for DAAA
REFRESH-INTERVAL;VALUE=DURATION:PT1H
X-Robots-Tag:noindex
X-PUBLISHED-TTL:PT1H
BEGIN:VTIMEZONE
TZID:UTC
BEGIN:STANDARD
TZOFFSETFROM:+0000
TZOFFSETTO:+0000
TZNAME:UTC
DTSTART:20250101T000000
END:STANDARD
END:VTIMEZONE
BEGIN:VEVENT
DTSTART;TZID=UTC:20260513T000000
DTEND;TZID=UTC:20260513T000000
DTSTAMP:20260425T034922
CREATED:20260402T174230Z
LAST-MODIFIED:20260402T174230Z
UID:1219-1778630400-1778630400@www.dunbartonshireaaa.co.uk
SUMMARY:2026 5000m Track Championships #2
DESCRIPTION:Enter Here
URL:https://www.dunbartonshireaaa.co.uk/event/2026-5000m-track-championships/
CATEGORIES:5000m,Track
END:VEVENT
END:VCALENDAR